Package: simpleSeg Version: 1.6.1 Command: /home/biocbuild/bbs-3.19-bioc/R/bin/R CMD check --install=check:simpleSeg.install-out.txt --library=/home/biocbuild/bbs-3.19-bioc/R/site-library --timings simpleSeg_1.6.1.tar.gz StartedAt: 2024-10-17 05:11:39 -0400 (Thu, 17 Oct 2024) EndedAt: 2024-10-17 05:19:57 -0400 (Thu, 17 Oct 2024) EllapsedTime: 498.0 seconds RetCode: 0 Status: OK CheckDir: simpleSeg.Rcheck Warnings: 0