Package: simpleSeg Version: 1.6.1 Command: /Library/Frameworks/R.framework/Resources/bin/R CMD check --install=check:simpleSeg.install-out.txt --library=/Library/Frameworks/R.framework/Resources/library --no-vignettes --timings simpleSeg_1.6.1.tar.gz StartedAt: 2024-10-17 13:16:31 -0400 (Thu, 17 Oct 2024) EndedAt: 2024-10-17 13:31:01 -0400 (Thu, 17 Oct 2024) EllapsedTime: 870.7 seconds RetCode: 0 Status: OK CheckDir: simpleSeg.Rcheck Warnings: 0