Package: simpleSeg Version: 1.6.1 Command: /Library/Frameworks/R.framework/Resources/bin/R CMD check --install=check:simpleSeg.install-out.txt --library=/Library/Frameworks/R.framework/Resources/library --no-vignettes --timings simpleSeg_1.6.1.tar.gz StartedAt: 2024-06-09 23:07:03 -0400 (Sun, 09 Jun 2024) EndedAt: 2024-06-09 23:13:52 -0400 (Sun, 09 Jun 2024) EllapsedTime: 408.5 seconds RetCode: 0 Status: OK CheckDir: simpleSeg.Rcheck Warnings: 0