Package: simpleSeg Version: 1.6.1 Command: /Library/Frameworks/R.framework/Resources/bin/R CMD build --keep-empty-dirs --no-resave-data simpleSeg StartedAt: 2024-06-10 04:55:50 -0400 (Mon, 10 Jun 2024) EndedAt: 2024-06-10 04:59:48 -0400 (Mon, 10 Jun 2024) EllapsedTime: 237.3 seconds RetCode: 0 Status: OK PackageFile: simpleSeg_1.6.1.tar.gz PackageFileSize: 4.774 MiB