Package: simona Version: 1.2.0 Command: rm -rf simona.buildbin-libdir && mkdir simona.buildbin-libdir && E:\biocbuild\bbs-3.19-bioc\R\bin\R.exe CMD INSTALL --build --library=simona.buildbin-libdir simona_1.2.0.tar.gz StartedAt: 2024-10-17 08:39:35 -0400 (Thu, 17 Oct 2024) EndedAt: 2024-10-17 08:41:32 -0400 (Thu, 17 Oct 2024) EllapsedTime: 117.1 seconds RetCode: 0 Status: OK PackageFile: simona_1.2.0.zip PackageFileSize: 2.228 MiB