Package: simona Version: 1.2.0 Command: /home/biocbuild/bbs-3.19-bioc/R/bin/R CMD INSTALL simona StartedAt: 2024-10-16 16:21:10 -0400 (Wed, 16 Oct 2024) EndedAt: 2024-10-16 16:22:21 -0400 (Wed, 16 Oct 2024) EllapsedTime: 71.5 seconds RetCode: 0 Status: OK