Package: simona Version: 1.2.0 Command: /Library/Frameworks/R.framework/Resources/bin/R CMD INSTALL simona StartedAt: 2024-10-16 16:04:00 -0400 (Wed, 16 Oct 2024) EndedAt: 2024-10-16 16:06:24 -0400 (Wed, 16 Oct 2024) EllapsedTime: 143.9 seconds RetCode: 0 Status: OK