Package: simona Version: 1.2.0 Command: /Library/Frameworks/R.framework/Resources/bin/R CMD build --keep-empty-dirs --no-resave-data simona StartedAt: 2024-10-16 23:23:03 -0400 (Wed, 16 Oct 2024) EndedAt: 2024-10-16 23:26:25 -0400 (Wed, 16 Oct 2024) EllapsedTime: 201.5 seconds RetCode: 0 Status: OK PackageFile: simona_1.2.0.tar.gz PackageFileSize: 943.8 KiB