Package: similaRpeak Version: 1.36.0 Command: chmod a+r similaRpeak -R && E:\biocbuild\bbs-3.19-bioc\R\bin\R.exe CMD build --keep-empty-dirs --no-resave-data similaRpeak StartedAt: 2024-10-16 21:58:53 -0400 (Wed, 16 Oct 2024) EndedAt: 2024-10-16 21:59:43 -0400 (Wed, 16 Oct 2024) EllapsedTime: 49.2 seconds RetCode: 0 Status: OK PackageFile: similaRpeak_1.36.0.tar.gz PackageFileSize: 853.8 KiB