Package: similaRpeak Version: 1.36.0 Command: rm -rf similaRpeak.buildbin-libdir && mkdir similaRpeak.buildbin-libdir && E:\biocbuild\bbs-3.19-bioc\R\bin\R.exe CMD INSTALL --build --library=similaRpeak.buildbin-libdir similaRpeak_1.36.0.tar.gz StartedAt: 2024-10-17 08:39:30 -0400 (Thu, 17 Oct 2024) EndedAt: 2024-10-17 08:39:54 -0400 (Thu, 17 Oct 2024) EllapsedTime: 24.3 seconds RetCode: 0 Status: OK PackageFile: similaRpeak_1.36.0.zip PackageFileSize: 1.073 MiB