Package: similaRpeak Version: 1.36.0 Command: rm -rf similaRpeak.buildbin-libdir && mkdir similaRpeak.buildbin-libdir && F:\biocbuild\bbs-3.19-bioc\R\bin\R.exe CMD INSTALL --build --library=similaRpeak.buildbin-libdir similaRpeak_1.36.0.tar.gz StartedAt: 2024-06-27 08:56:11 -0400 (Thu, 27 Jun 2024) EndedAt: 2024-06-27 08:56:25 -0400 (Thu, 27 Jun 2024) EllapsedTime: 14.8 seconds RetCode: 0 Status: OK PackageFile: similaRpeak_1.36.0.zip PackageFileSize: 1.061 MiB