Package: similaRpeak Version: 1.36.0 Command: /Library/Frameworks/R.framework/Resources/bin/R CMD build --keep-empty-dirs --no-resave-data similaRpeak StartedAt: 2024-10-16 23:22:49 -0400 (Wed, 16 Oct 2024) EndedAt: 2024-10-16 23:24:07 -0400 (Wed, 16 Oct 2024) EllapsedTime: 77.9 seconds RetCode: 0 Status: OK PackageFile: similaRpeak_1.36.0.tar.gz PackageFileSize: 2.145 MiB