Package: similaRpeak Version: 1.36.0 Command: /Library/Frameworks/R.framework/Resources/bin/R CMD build --keep-empty-dirs --no-resave-data similaRpeak StartedAt: 2024-10-17 09:22:10 -0400 (Thu, 17 Oct 2024) EndedAt: 2024-10-17 09:22:44 -0400 (Thu, 17 Oct 2024) EllapsedTime: 33.7 seconds RetCode: 0 Status: OK PackageFile: similaRpeak_1.36.0.tar.gz PackageFileSize: 2.145 MiB