Package: similaRpeak Version: 1.36.0 Command: rm -rf similaRpeak.buildbin-libdir && mkdir similaRpeak.buildbin-libdir && /Users/biocbuild/BBS/utils/build-universal.sh similaRpeak_1.36.0.tar.gz /Library/Frameworks/R.framework/Resources/bin/R similaRpeak.buildbin-libdir StartedAt: 2024-10-15 20:19:51 -0400 (Tue, 15 Oct 2024) EndedAt: 2024-10-15 20:20:00 -0400 (Tue, 15 Oct 2024) EllapsedTime: 9.1 seconds RetCode: 0 Status: OK PackageFile: similaRpeak_1.36.0.tgz PackageFileSize: 2.369 MiB