Package: simPIC Version: 1.0.0 Command: /Library/Frameworks/R.framework/Resources/bin/R CMD INSTALL simPIC StartedAt: 2024-10-16 16:18:12 -0400 (Wed, 16 Oct 2024) EndedAt: 2024-10-16 16:19:05 -0400 (Wed, 16 Oct 2024) EllapsedTime: 53.1 seconds RetCode: 0 Status: OK