Package: simPIC Version: 1.0.0 Command: /Library/Frameworks/R.framework/Resources/bin/R CMD build --keep-empty-dirs --no-resave-data simPIC StartedAt: 2024-10-16 23:23:11 -0400 (Wed, 16 Oct 2024) EndedAt: 2024-10-16 23:25:39 -0400 (Wed, 16 Oct 2024) EllapsedTime: 147.8 seconds RetCode: 0 Status: OK PackageFile: simPIC_1.0.0.tar.gz PackageFileSize: 1.145 MiB