Package: simPIC Version: 1.0.0 Command: rm -rf simPIC.buildbin-libdir && mkdir simPIC.buildbin-libdir && /Users/biocbuild/BBS/utils/build-universal.sh simPIC_1.0.0.tar.gz /Library/Frameworks/R.framework/Resources/bin/R simPIC.buildbin-libdir StartedAt: 2024-10-15 20:20:11 -0400 (Tue, 15 Oct 2024) EndedAt: 2024-10-15 20:20:45 -0400 (Tue, 15 Oct 2024) EllapsedTime: 34.1 seconds RetCode: 0 Status: OK PackageFile: simPIC_1.0.0.tgz PackageFileSize: 2.381 MiB