Package: sigsquared Version: 1.36.0 Command: chmod a+r sigsquared -R && E:\biocbuild\bbs-3.19-bioc\R\bin\R.exe CMD build --keep-empty-dirs --no-resave-data sigsquared StartedAt: 2024-10-16 21:58:30 -0400 (Wed, 16 Oct 2024) EndedAt: 2024-10-16 21:59:11 -0400 (Wed, 16 Oct 2024) EllapsedTime: 41.4 seconds RetCode: 0 Status: OK PackageFile: sigsquared_1.36.0.tar.gz PackageFileSize: 341.6 KiB