Package: sigsquared Version: 1.36.0 Command: rm -rf sigsquared.buildbin-libdir && mkdir sigsquared.buildbin-libdir && E:\biocbuild\bbs-3.19-bioc\R\bin\R.exe CMD INSTALL --build --library=sigsquared.buildbin-libdir sigsquared_1.36.0.tar.gz StartedAt: 2024-10-17 08:39:07 -0400 (Thu, 17 Oct 2024) EndedAt: 2024-10-17 08:39:56 -0400 (Thu, 17 Oct 2024) EllapsedTime: 48.5 seconds RetCode: 0 Status: OK PackageFile: sigsquared_1.36.0.zip PackageFileSize: 325.8 KiB