Package: sigsquared Version: 1.36.0 Command: /home/biocbuild/bbs-3.19-bioc/R/bin/R CMD build --keep-empty-dirs --no-resave-data sigsquared StartedAt: 2024-10-16 20:51:12 -0400 (Wed, 16 Oct 2024) EndedAt: 2024-10-16 20:51:33 -0400 (Wed, 16 Oct 2024) EllapsedTime: 21.0 seconds RetCode: 0 Status: OK PackageFile: sigsquared_1.36.0.tar.gz PackageFileSize: 340.1 KiB