Package: sigsquared Version: 1.36.0 Command: /Library/Frameworks/R.framework/Resources/bin/R CMD check --install=check:sigsquared.install-out.txt --library=/Library/Frameworks/R.framework/Resources/library --no-vignettes --timings sigsquared_1.36.0.tar.gz StartedAt: 2024-06-11 05:43:45 -0400 (Tue, 11 Jun 2024) EndedAt: 2024-06-11 05:45:44 -0400 (Tue, 11 Jun 2024) EllapsedTime: 118.8 seconds RetCode: 0 Status: OK CheckDir: sigsquared.Rcheck Warnings: 0