Package: signifinder Version: 1.6.0 Command: /home/biocbuild/bbs-3.19-bioc/R/bin/R CMD build --keep-empty-dirs --no-resave-data signifinder StartedAt: 2024-10-16 20:51:06 -0400 (Wed, 16 Oct 2024) EndedAt: 2024-10-16 20:54:05 -0400 (Wed, 16 Oct 2024) EllapsedTime: 178.3 seconds RetCode: 0 Status: OK PackageFile: signifinder_1.6.0.tar.gz PackageFileSize: 9.216 MiB