Package: signifinder Version: 1.6.0 Command: /Library/Frameworks/R.framework/Resources/bin/R CMD INSTALL signifinder StartedAt: 2024-10-16 16:53:51 -0400 (Wed, 16 Oct 2024) EndedAt: 2024-10-16 16:55:05 -0400 (Wed, 16 Oct 2024) EllapsedTime: 74.2 seconds RetCode: 0 Status: OK