Package: signifinder Version: 1.6.0 Command: /Library/Frameworks/R.framework/Resources/bin/R CMD build --keep-empty-dirs --no-resave-data signifinder StartedAt: 2024-10-16 23:22:01 -0400 (Wed, 16 Oct 2024) EndedAt: 2024-10-16 23:30:08 -0400 (Wed, 16 Oct 2024) EllapsedTime: 487.1 seconds RetCode: 0 Status: OK PackageFile: signifinder_1.6.0.tar.gz PackageFileSize: 9.642 MiB