Package: signifinder Version: 1.6.0 Command: /Library/Frameworks/R.framework/Resources/bin/R CMD INSTALL signifinder StartedAt: 2024-10-16 18:59:33 -0400 (Wed, 16 Oct 2024) EndedAt: 2024-10-16 19:00:41 -0400 (Wed, 16 Oct 2024) EllapsedTime: 68.1 seconds RetCode: 0 Status: OK