Package: signifinder Version: 1.6.0 Maintainer: Stefania Pirrotta MaintainerEmail: stefania.pirrotta at phd.unipd.it git_url: https://git.bioconductor.org/packages/signifinder git_branch: RELEASE_3_19 git_last_commit: b1f9b88 git_last_commit_date: 2024-04-30 11:45:33 -0400 (Tue, 30 Apr 2024)