Package: signeR Version: 2.6.0 Command: chmod a+r signeR -R && E:\biocbuild\bbs-3.19-bioc\R\bin\R.exe CMD build --keep-empty-dirs --no-resave-data signeR StartedAt: 2024-10-16 21:57:58 -0400 (Wed, 16 Oct 2024) EndedAt: 2024-10-16 22:03:24 -0400 (Wed, 16 Oct 2024) EllapsedTime: 326.9 seconds RetCode: 0 Status: OK PackageFile: signeR_2.6.0.tar.gz PackageFileSize: 2.482 MiB