Package: signeR Version: 2.6.0 Command: /home/biocbuild/bbs-3.19-bioc/R/bin/R CMD INSTALL signeR StartedAt: 2024-10-16 16:46:28 -0400 (Wed, 16 Oct 2024) EndedAt: 2024-10-16 16:47:48 -0400 (Wed, 16 Oct 2024) EllapsedTime: 80.3 seconds RetCode: 0 Status: OK