Package: signeR Version: 2.6.0 Command: /Library/Frameworks/R.framework/Resources/bin/R CMD build --keep-empty-dirs --no-resave-data signeR StartedAt: 2024-10-16 23:21:45 -0400 (Wed, 16 Oct 2024) EndedAt: 2024-10-16 23:33:03 -0400 (Wed, 16 Oct 2024) EllapsedTime: 678.5 seconds RetCode: 0 Status: OK PackageFile: signeR_2.6.0.tar.gz PackageFileSize: 2.42 MiB