Package: signatureSearch Version: 1.18.0 Command: chmod a+r signatureSearch -R && E:\biocbuild\bbs-3.19-bioc\R\bin\R.exe CMD build --keep-empty-dirs --no-resave-data signatureSearch StartedAt: 2024-10-16 21:57:56 -0400 (Wed, 16 Oct 2024) EndedAt: 2024-10-16 22:09:32 -0400 (Wed, 16 Oct 2024) EllapsedTime: 695.4 seconds RetCode: 0 Status: OK PackageFile: signatureSearch_1.18.0.tar.gz PackageFileSize: 4.926 MiB