Package: signatureSearch Version: 1.18.0 Command: rm -rf signatureSearch.buildbin-libdir && mkdir signatureSearch.buildbin-libdir && F:\biocbuild\bbs-3.19-bioc\R\bin\R.exe CMD INSTALL --build --library=signatureSearch.buildbin-libdir signatureSearch_1.18.0.tar.gz StartedAt: 2024-06-27 08:55:47 -0400 (Thu, 27 Jun 2024) EndedAt: 2024-06-27 08:59:11 -0400 (Thu, 27 Jun 2024) EllapsedTime: 203.3 seconds RetCode: 0 Status: OK PackageFile: signatureSearch_1.18.0.zip PackageFileSize: 85.13 MiB