Package: signatureSearch Version: 1.18.0 Command: rm -rf signatureSearch.buildbin-libdir && mkdir signatureSearch.buildbin-libdir && /Users/biocbuild/BBS/utils/build-universal.sh signatureSearch_1.18.0.tar.gz /Library/Frameworks/R.framework/Resources/bin/R signatureSearch.buildbin-libdir StartedAt: 2024-06-10 00:40:12 -0400 (Mon, 10 Jun 2024) EndedAt: 2024-06-10 00:42:48 -0400 (Mon, 10 Jun 2024) EllapsedTime: 156.3 seconds RetCode: 0 Status: OK PackageFile: signatureSearch_1.18.0.tgz PackageFileSize: 87.06 MiB