Package: sights Version: 1.30.0 Command: E:\biocbuild\bbs-3.19-bioc\R\bin\R.exe CMD INSTALL sights StartedAt: 2024-10-16 16:10:31 -0400 (Wed, 16 Oct 2024) EndedAt: 2024-10-16 16:10:48 -0400 (Wed, 16 Oct 2024) EllapsedTime: 16.6 seconds RetCode: 0 Status: OK