Package: sights Version: 1.30.0 Command: rm -rf sights.buildbin-libdir && mkdir sights.buildbin-libdir && E:\biocbuild\bbs-3.19-bioc\R\bin\R.exe CMD INSTALL --build --library=sights.buildbin-libdir sights_1.30.0.tar.gz StartedAt: 2024-10-17 08:38:46 -0400 (Thu, 17 Oct 2024) EndedAt: 2024-10-17 08:39:05 -0400 (Thu, 17 Oct 2024) EllapsedTime: 19.7 seconds RetCode: 0 Status: OK PackageFile: sights_1.30.0.zip PackageFileSize: 1.227 MiB