Package: sights Version: 1.30.0 Command: /Library/Frameworks/R.framework/Resources/bin/R CMD INSTALL sights StartedAt: 2024-10-16 15:24:38 -0400 (Wed, 16 Oct 2024) EndedAt: 2024-10-16 15:24:52 -0400 (Wed, 16 Oct 2024) EllapsedTime: 14.0 seconds RetCode: 0 Status: OK