Package: sights Version: 1.30.0 Command: /Library/Frameworks/R.framework/Resources/bin/R CMD build --keep-empty-dirs --no-resave-data sights StartedAt: 2024-10-16 23:20:42 -0400 (Wed, 16 Oct 2024) EndedAt: 2024-10-16 23:22:29 -0400 (Wed, 16 Oct 2024) EllapsedTime: 106.6 seconds RetCode: 0 Status: OK PackageFile: sights_1.30.0.tar.gz PackageFileSize: 5.805 MiB