Package: sights Version: 1.30.0 Command: /Library/Frameworks/R.framework/Resources/bin/R CMD INSTALL sights StartedAt: 2024-10-16 16:11:04 -0400 (Wed, 16 Oct 2024) EndedAt: 2024-10-16 16:11:10 -0400 (Wed, 16 Oct 2024) EllapsedTime: 6.1 seconds RetCode: 0 Status: OK