Package: sights Version: 1.30.0 Command: /Library/Frameworks/R.framework/Resources/bin/R CMD check --install=check:sights.install-out.txt --library=/Library/Frameworks/R.framework/Resources/library --no-vignettes --timings sights_1.30.0.tar.gz StartedAt: 2024-10-18 12:22:47 -0400 (Fri, 18 Oct 2024) EndedAt: 2024-10-18 12:25:04 -0400 (Fri, 18 Oct 2024) EllapsedTime: 136.9 seconds RetCode: 0 Status: OK CheckDir: sights.Rcheck Warnings: 0