Package: sights Version: 1.30.0 Command: /Library/Frameworks/R.framework/Resources/bin/R CMD build --keep-empty-dirs --no-resave-data sights StartedAt: 2024-10-17 09:18:46 -0400 (Thu, 17 Oct 2024) EndedAt: 2024-10-17 09:19:25 -0400 (Thu, 17 Oct 2024) EllapsedTime: 39.1 seconds RetCode: 0 Status: OK PackageFile: sights_1.30.0.tar.gz PackageFileSize: 5.807 MiB