Package: siggenes Version: 1.78.0 Command: E:\biocbuild\bbs-3.19-bioc\R\bin\R.exe CMD INSTALL siggenes StartedAt: 2024-10-16 17:03:47 -0400 (Wed, 16 Oct 2024) EndedAt: 2024-10-16 17:04:31 -0400 (Wed, 16 Oct 2024) EllapsedTime: 44.0 seconds RetCode: 0 Status: OK