Package: siggenes Version: 1.78.0 Command: chmod a+r siggenes -R && E:\biocbuild\bbs-3.19-bioc\R\bin\R.exe CMD build --keep-empty-dirs --no-resave-data siggenes StartedAt: 2024-10-16 21:57:42 -0400 (Wed, 16 Oct 2024) EndedAt: 2024-10-16 21:58:35 -0400 (Wed, 16 Oct 2024) EllapsedTime: 52.8 seconds RetCode: 0 Status: OK PackageFile: siggenes_1.78.0.tar.gz PackageFileSize: 517 KiB