Package: siggenes Version: 1.78.0 Command: rm -rf siggenes.buildbin-libdir && mkdir siggenes.buildbin-libdir && /Users/biocbuild/BBS/utils/build-universal.sh siggenes_1.78.0.tar.gz /Library/Frameworks/R.framework/Resources/bin/R siggenes.buildbin-libdir StartedAt: 2024-10-17 17:12:30 -0400 (Thu, 17 Oct 2024) EndedAt: 2024-10-17 17:13:03 -0400 (Thu, 17 Oct 2024) EllapsedTime: 32.8 seconds RetCode: 0 Status: OK PackageFile: siggenes_1.78.0.tgz PackageFileSize: 1.219 MiB