Package: siggenes Version: 1.78.0 Command: /Library/Frameworks/R.framework/Resources/bin/R CMD check --install=check:siggenes.install-out.txt --library=/Library/Frameworks/R.framework/Resources/library --no-vignettes --timings siggenes_1.78.0.tar.gz StartedAt: 2024-10-18 12:22:02 -0400 (Fri, 18 Oct 2024) EndedAt: 2024-10-18 12:23:31 -0400 (Fri, 18 Oct 2024) EllapsedTime: 88.4 seconds RetCode: 0 Status: OK CheckDir: siggenes.Rcheck Warnings: 0