Package: siggenes Version: 1.78.0 Command: /Library/Frameworks/R.framework/Resources/bin/R CMD build --keep-empty-dirs --no-resave-data siggenes StartedAt: 2024-10-17 09:18:27 -0400 (Thu, 17 Oct 2024) EndedAt: 2024-10-17 09:19:05 -0400 (Thu, 17 Oct 2024) EllapsedTime: 38.2 seconds RetCode: 0 Status: OK PackageFile: siggenes_1.78.0.tar.gz PackageFileSize: 744.8 KiB