Package: sigFeature Version: 1.22.0 Command: /home/biocbuild/bbs-3.19-bioc/R/bin/R CMD INSTALL sigFeature StartedAt: 2024-10-16 16:41:58 -0400 (Wed, 16 Oct 2024) EndedAt: 2024-10-16 16:42:22 -0400 (Wed, 16 Oct 2024) EllapsedTime: 24.7 seconds RetCode: 0 Status: OK