Package: sigFeature Version: 1.22.0 Command: /home/biocbuild/bbs-3.19-bioc/R/bin/R CMD build --keep-empty-dirs --no-resave-data sigFeature StartedAt: 2024-10-16 20:50:27 -0400 (Wed, 16 Oct 2024) EndedAt: 2024-10-16 20:51:06 -0400 (Wed, 16 Oct 2024) EllapsedTime: 39.1 seconds RetCode: 0 Status: OK PackageFile: sigFeature_1.22.0.tar.gz PackageFileSize: 334.1 KiB