Package: sigFeature Version: 1.22.0 Command: /Library/Frameworks/R.framework/Resources/bin/R CMD build --keep-empty-dirs --no-resave-data sigFeature StartedAt: 2024-10-16 23:20:04 -0400 (Wed, 16 Oct 2024) EndedAt: 2024-10-16 23:22:01 -0400 (Wed, 16 Oct 2024) EllapsedTime: 116.8 seconds RetCode: 0 Status: OK PackageFile: sigFeature_1.22.0.tar.gz PackageFileSize: 369.6 KiB