Package: sigFeature Version: 1.22.0 Command: /Library/Frameworks/R.framework/Resources/bin/R CMD build --keep-empty-dirs --no-resave-data sigFeature StartedAt: 2024-06-10 04:51:26 -0400 (Mon, 10 Jun 2024) EndedAt: 2024-06-10 04:52:23 -0400 (Mon, 10 Jun 2024) EllapsedTime: 57.2 seconds RetCode: 0 Status: OK PackageFile: sigFeature_1.22.0.tar.gz PackageFileSize: 370 KiB