Package: sigFeature Version: 1.22.0 Command: rm -rf sigFeature.buildbin-libdir && mkdir sigFeature.buildbin-libdir && /Users/biocbuild/BBS/utils/build-universal.sh sigFeature_1.22.0.tar.gz /Library/Frameworks/R.framework/Resources/bin/R sigFeature.buildbin-libdir StartedAt: 2024-10-15 20:18:47 -0400 (Tue, 15 Oct 2024) EndedAt: 2024-10-15 20:19:25 -0400 (Tue, 15 Oct 2024) EllapsedTime: 37.5 seconds RetCode: 0 Status: OK PackageFile: sigFeature_1.22.0.tgz PackageFileSize: 502 KiB