Package: sigFeature Version: 1.22.0 Maintainer: Pijush Das Developer MaintainerEmail: topijush at gmail.com git_url: https://git.bioconductor.org/packages/sigFeature git_branch: RELEASE_3_19 git_last_commit: 5432bb3 git_last_commit_date: 2024-04-30 11:06:49 -0400 (Tue, 30 Apr 2024)